BEGIN:VCALENDAR
VERSION:2.0
PRODID:-//Myriam García Fidalgo - ECPv6.15.20//NONSGML v1.0//EN
CALSCALE:GREGORIAN
METHOD:PUBLISH
X-ORIGINAL-URL:https://myriamgarciafidalgo.com
X-WR-CALDESC:Events for Myriam García Fidalgo
REFRESH-INTERVAL;VALUE=DURATION:PT1H
X-Robots-Tag:noindex
X-PUBLISHED-TTL:PT1H
BEGIN:VTIMEZONE
TZID:UTC
BEGIN:STANDARD
TZOFFSETFROM:+0000
TZOFFSETTO:+0000
TZNAME:UTC
DTSTART:20120101T000000
END:STANDARD
END:VTIMEZONE
BEGIN:VTIMEZONE
TZID:Europe/Paris
BEGIN:DAYLIGHT
TZOFFSETFROM:+0100
TZOFFSETTO:+0200
TZNAME:CEST
DTSTART:20130331T010000
END:DAYLIGHT
BEGIN:STANDARD
TZOFFSETFROM:+0200
TZOFFSETTO:+0100
TZNAME:CET
DTSTART:20131027T010000
END:STANDARD
BEGIN:DAYLIGHT
TZOFFSETFROM:+0100
TZOFFSETTO:+0200
TZNAME:CEST
DTSTART:20140330T010000
END:DAYLIGHT
BEGIN:STANDARD
TZOFFSETFROM:+0200
TZOFFSETTO:+0100
TZNAME:CET
DTSTART:20141026T010000
END:STANDARD
BEGIN:DAYLIGHT
TZOFFSETFROM:+0100
TZOFFSETTO:+0200
TZNAME:CEST
DTSTART:20150329T010000
END:DAYLIGHT
BEGIN:STANDARD
TZOFFSETFROM:+0200
TZOFFSETTO:+0100
TZNAME:CET
DTSTART:20151025T010000
END:STANDARD
BEGIN:DAYLIGHT
TZOFFSETFROM:+0100
TZOFFSETTO:+0200
TZNAME:CEST
DTSTART:20160327T010000
END:DAYLIGHT
BEGIN:STANDARD
TZOFFSETFROM:+0200
TZOFFSETTO:+0100
TZNAME:CET
DTSTART:20161030T010000
END:STANDARD
END:VTIMEZONE
BEGIN:VEVENT
DTSTART;TZID=UTC:20150605T200000
DTEND;TZID=UTC:20150605T220000
DTSTAMP:20260425T042116
CREATED:20150416T163430Z
LAST-MODIFIED:20150416T163430Z
UID:1945-1433534400-1433541600@myriamgarciafidalgo.com
SUMMARY:Eröffnungskonzert prattica E. Präsentation des Projekts “Call for Scores- Schallfeld goes Electronic”
DESCRIPTION:Das Ensemble Schallfeld präsentiert die Ergebnisse seines ersten Call for Scores. \nProgramm:\nBnaya Halperin-Kaddari: Kinky Kings for Quintet and electronics \nDavide Gagliardi: … Principio for Flute\, Sax\, Piano\, Piano Strings and electronics. \nMariana Ungureanu: Peau de lumière. In situ\, for Sax\, Violin\, Cello\, Piano and electronics. \nFausto Romitelli: Amok Koma \nRichard Barrett: Codex 1
URL:https://myriamgarciafidalgo.com/event/eroeffnungskonzert-prattica-e-praesentation-des-projekts-call-for-scores-schallfeld-goes-electronic/
END:VEVENT
BEGIN:VEVENT
DTSTART;TZID=Europe/Paris:20150513T200000
DTEND;TZID=Europe/Paris:20150513T230000
DTSTAMP:20260425T042116
CREATED:20150416T163014Z
LAST-MODIFIED:20150416T163014Z
UID:1943-1431547200-1431558000@myriamgarciafidalgo.com
SUMMARY:Komplexe Organismen
DESCRIPTION:Am Mittwoch\, den 13. Mai gestalten wir im Forum Stadtpark eine klanglich-visuelle Rauminstallation\, in die die musikalischen Beiträge des Abends (Kammermusikwerke von Romitelli\, Harnik\,\nKlement\, Bernal und Seither sowie Performances von Roedelius und Danielle Dahl) eingebettet sind.\nDie Installation bietet einen Raum zum Eintauchen\, Nachdenken und Hinterfragen der Art und Weise\, wie Kultur und Kunst heute produziert und aufgenommen werden. Brauchen wir das Innen und Außen\, die Trennung in Konzertsaal und Alltag\, die Hierarchien\nzwischen KomponistInnen und PerformerInnen noch? Wenn ja\, welcher Nutzen und welche Chancen ergeben sich aus traditionellen und neuen Arten der künstlerischen Zusammenarbeit? \nProgramm:\nKatharina Klement: fix five \nFausto Romitelli: Domeniche alla periferia dell’impero. Seconda domenica \nElisabeth Harnik: Floating shadows on flatland \nAlberto Bernal: Elogio de lo ausente (sobre un tema de Schumann) \nCharlotte Seither: Echoes of o’s \nLuigi Nono\, Andrés Gutiérrez Martínez\, Christof Ressi und Margarethe Maierhofer-Lischka: Installation \nSchallfeld Ensemble:\nElisa Azzarà: Flöte\nSzilárd Benes: Klarinette\nMatej Bunderla: Saxophon\nPatrick Skrilecz: Klavier\nLorenzo Derinni: Geige\nMyriam García Fidalgo: Cello\nMargarethe Maierhofer-Lischka: Kontrabass \nAndrés Gutiérrez Martínez und Christof Ressi: Elektronik\nOrt: Forum Stadtpark (Graz)\nZeit: Mi\, 13.05.\, 20:00 Uhr\nEintritt: €13\,- (€10\,-)\nWeitere Informationen: www.forumstadtpark.at
URL:https://myriamgarciafidalgo.com/event/schallfeld-interpenetration-werk02/
END:VEVENT
BEGIN:VEVENT
DTSTART;TZID=UTC:20150417T193000
DTEND;TZID=UTC:20150417T210000
DTSTAMP:20260425T042116
CREATED:20150121T165507Z
LAST-MODIFIED:20150121T165507Z
UID:1942-1429299000-1429304400@myriamgarciafidalgo.com
SUMMARY:Signale Graz
DESCRIPTION:AUDIBLE ECOSYSTEMICS\nWerke von Agostino Di Scipio & David Pirrò \nMit: Ensemble Schallfeld \nSängerinnen: Justina Vaitkuté\, Elizaveta Radchenko\, Tamara Semzov\,\nIrina Tjurdju \nKlangregie: Peter Venus \nAm 17. April 2015 im MUMUTH\, Lichtenfelsgasse 14 \nEinführung: 19.30 Uhr\, Lounge\, 3. OG\, mit Christa Brüstle (Graz) \nKonzertbeginn: 19.45 Uhr\, György-Ligeti-Saal \nEintritt: 12 Euro\, (StudentInnen frei) \nIn diesem Konzert stehen die „performance ecosystems“ des Werks des Komponisten und Klangkünstlers Agostino Di Scipio im Mittelpunkt. In den präsentierten Werken treten Klang und Komposition aus den klanglichen Interaktionen zwischen Aufführenden\, diversen technischen\nKonfigurationen und den akustischen Gegebenheiten hervor. Beispielhaft für diese Arbeitsweise sind die AUDIBLE ECOSYSTEMICS Werke von Di Scipio.\nDes weiteren werden neuere Werke für Instrumente oder PerformerInnen präsentiert\, die autonome Netzwerke bestehend aus digitalen und\nanalogen technischen Konfigurationen erforschen und begehen. Darüber hinaus wird das neue Werk USELESS MACHINE #6 von David Pirrò vorgestellt\, welches ähnliche Ansätze der klanglichen Forschung erkundet und weiterspinnt. \nsignalegraz\nDie halbjährliche Veranstaltungsreihe signalegraz der Kunstuniversität Graz präsentiert musikalische und klangkünstlerische Arbeiten\, die vor allem mittels moderner Medientechnologie in den letzten 70 Jahren konzipiert oder realisiert wurden. Die Programmierung und Durchführung wird von Studierenden und AbsolventInnen sowie von mehreren Instituten der KUG getragen.
URL:https://myriamgarciafidalgo.com/event/signale-graz/
END:VEVENT
BEGIN:VEVENT
DTSTART;TZID=UTC:20150217T200000
DTEND;TZID=UTC:20150217T210000
DTSTAMP:20260425T042116
CREATED:20150104T123109Z
LAST-MODIFIED:20150104T123109Z
UID:1941-1424203200-1424206800@myriamgarciafidalgo.com
SUMMARY:Impuls 2015
DESCRIPTION:Andrés Gutiérrez Martínez (*1984): I/O (2014)\, for flute\, bass clarinet\, saxophone\, piano\, violin\, cello and double bass \nZesses Seglias (*1984): the morning light came slowly tumbling through the crack in the window (2012)\, for flute\, bass clarinet\, piano\, violin\, viola\, cello and double bass \nHannes Kerschbaumer (*1981): pedra.debris (2015)\, for saxophone\, piano\, violin\, cello and double bass \nLorenzo Romano (*1985): Time Killer (2014)\, for flute\, clarinet\, saxophone\, piano\, violin\, cello and double bass \nPierluigi Billone (*1960): Δίκη Wall (2012)\, for percussion solo\, flute\, clarinet\, violin\, viola\, cello and piano \nin Kooperation mit Impuls\nAndrés Gutiérrez Martínez (*1984): I/O (2014)\, for flute\, bass clarinet\, saxophone\, piano\, violin\, cello and double bass \nZesses Seglias (*1984): the morning light came slowly tumbling through the crack in the window (2012)\, for flute\, bass clarinet\, piano\, violin\, viola\, cello and double bass \nHannes Kerschbaumer (*1981): pedra.debris (2015)\, for saxophone\, piano\, violin\, cello and double bass \nLorenzo Romano (*1985): Time Killer (2014)\, for flute\, clarinet\, saxophone\, piano\, violin\, cello and double bass \nPierluigi Billone (*1960): Δίκη Wall (2012)\, for percussion solo\, flute\, clarinet\, violin\, viola\, cello and piano \nin cooperation with Impuls
URL:https://myriamgarciafidalgo.com/event/impuls-2015/
LOCATION:_1240505Web
END:VEVENT
BEGIN:VEVENT
DTSTART;TZID=Europe/Paris:20141212T180000
DTEND;TZID=Europe/Paris:20141212T190000
DTSTAMP:20260425T042116
CREATED:20141128T230356Z
LAST-MODIFIED:20141128T230356Z
UID:1297-1418407200-1418410800@myriamgarciafidalgo.com
SUMMARY:Under Construction
DESCRIPTION:SAISONKONZERT #2 -Konzertreihe CROSS-X-IDENTITÄTEN UNDER CONSTRUCTION\nFreitag\, 12. Dezember 2014 Veranstaltungssaal der KHG Graz\, Leechgasse 22 Beginn. 18.00h Werke von: James Tenney\, Jorge Vazquez\, Pierre Boulez\, Chris Swithinbank\, György Ligeti\, Richard Barrett\nKonstruktion in der Kunst ist oft negativ konnotiert – als vermeintlicher Gegensatz zu Emotionalität\, Spontaneität oder Freiheit. An diesem Abend erleben wir\, an welchen “Baustellen” die Baumeister zeitgenössischer Musik arbeiten\, und wie sich aus Konstruktionen eigene (klangliche\, ethnografische\, emotionale) Identitäten bilden. Die Ansätze könnten dabei unterschiedlicher nicht sein: minimalistisch bei James Tenneys “beast”\, mathematisch bei Pierre Boulez\, exakt und zugleich musikantisch in Ligetis Klavieretüden oder poetisch-metaphorisch in Chris Swithinbanks Duo für Cello und Flöte; in Richard Barretts „Codex I“ hingegen verbindet sich die zeichnerische Konstruktion der grafischen Partitur mit der Aufforderung zur Rekonstruktion – nämlich der Aufführungspraxis einer unbekannten Musikkultur im Sinne einer fiktionalen Ethnographie. Und ganz reale cross-kulturelle Klangerlebnisse bieten zwei Uraufführungen von jungen Komponisten\, Wen-Cheh Lee (TW) und Jorge Vazquez (ARG)\, beide in Graz beheimatet. Freuen Sie sich auf einen abwechslungsreichen Konzertabend. \nEs spielt: Ensemble Schallfeld \nLorenzo Derinni (Vl) \nMyriam Garcia (Vcl) \nMargarethe Maierhofer-Lischka (Kb) \nZinajda Kodric (Fl) \nMaria Flavia Cerrato (Pno) \nAndres Gutierrez (Elektronik) \nEintritt: 5€ / 7€ (Kulturpass und Fördermitglieder frei)
URL:https://myriamgarciafidalgo.com/event/under-construction/
END:VEVENT
BEGIN:VEVENT
DTSTART;TZID=UTC:20141206T203000
DTEND;TZID=UTC:20141206T210000
DTSTAMP:20260425T042116
CREATED:20141129T205602Z
LAST-MODIFIED:20141129T205602Z
UID:1305-1417897800-1417899600@myriamgarciafidalgo.com
SUMMARY:ClapTON Ensemble + Schallfeld Ensemble
DESCRIPTION:
URL:https://myriamgarciafidalgo.com/event/clapton-ensemble-schallfeld-ensemble/
END:VEVENT
BEGIN:VEVENT
DTSTART;TZID=UTC:20141108T190000
DTEND;TZID=UTC:20141108T210000
DTSTAMP:20260425T042116
CREATED:20140914T141229Z
LAST-MODIFIED:20140914T141229Z
UID:894-1415473200-1415480400@myriamgarciafidalgo.com
SUMMARY:Text im Klang
DESCRIPTION:Mediale Verschränkungen können verschiedene Ziele haben und unterschiedliche Qualitäten ausbilden\, im Projekt (Prozess) TEXT IM KLANG liegt der Fokus auf dem Impuls. Gerhild Steinbuch\, Natascha Gangl\, Stefan Schmitzer und Alexander Micheuz stellten Texte – Gedichte\, Miniaturen\, Prosa und Dramatisches – zur Verfügung\, die die Kompositionsprozesse von Tamara Friebel\, Martin Hiendl\, Sehyung Kim und Eun-Ji Lee initialzündeten. Nicht Vertonungen im klassischen Sinn sind intendiert\, keine Übersetzungen mit Stimme oder Sprecher\, keine klanglichen Repräsentationen der Texte\, gefragt sind vielmehr die Texte als Movens in ihren zum Beispiel rhythmischen und syntaktischen Qualitäten\, in ihren klangsprachlichen Färbungen\, als semantische Widerlager. In den Prozess der Komposition eingebunden sind InterpretInnen\, die ihrerseits im Einarbeitungsprozess mit den Komponierenden zusammenarbeiten. TEXT IM KLANG ist eine Kooperation von impuls . Verein zur Vermittlung zeitgenössischer Musik  mit dem Kulturzentrum bei den Minoriten. \n  \nURAUFFÜHRUNGEN von impuls Kompositionsaufträgen und LESUNGEN\nTamara Friebel . Text Gerhild Steinbuch Martin Hiendl . Text Natascha Gangl Eun-Ji Lee . Text Stefan Schmitzer Sehyung Kim . Text Alexander Micheuz \nINTERPRETiNNEN\nEnsemble Schallfeld Georgia Privitera\, Violine Myriam García Fidalgo\, Violoncello Margarethe Maierhofer-Lischka\, Kontrabass Zinajda Kodric\, Flöte Szilárd Benes\, Klarinette Matej Bunderla\, Saxophon Leonhard Garms\, Dirigent Peter Venus\, Ton \nTEXT IM KLANG. GESPRÄCH.\n16.30 Uhr ImCubus\, Mariahilferplatz 3/I\, 8020 Graz Impuls und Moderation: Clemens GADENSTÄTTER Statements und Diskussion der beteiligten KünstlerInnen / Eintritt frei \nTEXT IM KLANG. URAUFFÜHRUNGEN von impuls Kompositionsaufträgen und LESUNGEN\n19.00 Uhr Minoritensaal\, Mariahilferplatz 3\, 8020 Graz/ Eintritt: 12.- / 7.- \n  \n  \nText im Klang (Text in sound) Premiere of Impuls-composition commissions and readings\nSaturday 8. November 2014/ 16:30 ImCubus\, Mariahilferplatz 3/I\, 8020 Graz Moderation: Clemens Gadenstaetter Conference and discussion with the Composers/ Free entry! Saturday 8. November 2014/ 19:00 Minoritensaal\, Mariahilferplatz 3\, 8020 Graz Text im Klang: Concert and Readings/ Tickets: 12.- / 7.- TEXT IM KLANG is a cooperation between Impulse – cultural association for the promotion of contemporary music (www.impuls.cc) and the Kulturzentrum bei der Minoriten cultural institution. \nComposers :\nTamara Friebel / Text Gerhild Steinbuch Wind up your desire für Klarinette\, Violine\, Violoncello\, Kontrabass und ein Grammophon (2014\, World Premiere) Martin Hiendl / Text Natascha Gangl tonus für Violine\, Violoncello und Elektronik (2014\, World Premiere) Eun-Ji Lee / Text Stefan Schmitzer Map / Satellite-Hybrid du für Klarinette\, Saxophon\, Violine und Violoncello (2014\, World Premiere) Sehyung Kim / Text Alexander Micheuz Ignition für Bassflöte\, Bassklarinette\, Violoncello und Kontrabass (2014\, World Premiere) \nSchallfeld Musicians :\nGeorgia Privitera (Violin ) Myriam García Fidalgo (Cello) Margarethe Maierhofer-Lischka (Double bass) Szilárd Benes (Clarinett) Zinajda Kodrič (Flute) Matej Bunderla (Saxophon) + Peter Venus (Sound ) + Leonhard Garms (Conductor)
URL:https://myriamgarciafidalgo.com/event/text-im-klang-2/
END:VEVENT
BEGIN:VEVENT
DTSTART;TZID=UTC:20140618T200000
DTEND;TZID=UTC:20140618T220000
DTSTAMP:20260425T042116
CREATED:20140504T131253Z
LAST-MODIFIED:20140504T131253Z
UID:892-1403121600-1403128800@myriamgarciafidalgo.com
SUMMARY:Konzert in Forum Stadtpark
DESCRIPTION:Ausgangslage #8 – Schallfeld im Forum\n \nEine Nacht mit Musik und Video\nWAS ist ein Konzert? Ist es eine Präsentation künstlerischer Leistungen? Kommunikation zwischen Hörern und Spielenden? Ein sozialer Treffpunkt? Elitäre Veranstaltung für Besserwisser? Was wollen wir hören\, sehen\, fühlen\, wenn wir ein Konzert besuchen?   Ein Konzert ist nur ein kurzer Moment auf einem langen Weg künstlerischer Arbeit. Mit diesem Projekt wollen wir unser Publikum an diesem Prozess teilhaben lassen. Als Partner haben wir den Grazer Videokünstler Peter Venus eingeladen\, mit uns zusammenzuarbeiten und unsere Arbeit zu begleiten. In einem Kontrapunkt aus Musik und Bild entsteht eine installative Performance. Statt eines “Events” schaffen wir einen Raum\, wo sich Publikum und KünstlerInnen aufhalten\, begegnen\, austauschen\, verweilen können.   Mit zwei Werken von Franck Bedrossian und Francesco Filidei stellen wir Musik von Komponisten der “mittleren Generation” vor\, deren Musik wir gerne einmal in Graz hören wollen. Daneben stehen Werke von KomponistInnen\, die Mitglieder von Schallfeld sind. \nIn einer offenen Probe\, Gesprächen und einem Vortrag mit den Komponisten bieten wir vorab Einblicke in unsere Arbeit. \nProgramm:\nANDRÉS GUTIERREZ – I/O (UA) \nLORENZO ROMANO – Time Killer (UA) \nANAHITA ABBASI – Faab IV: A Femme Fatale (UA) \nJOHANNES MARIA STAUD – Lagrein \nFRANCESCO FILIDEI – Corde Vuote \nFRANCK BEDROSSIAN – It \nMusikerInnen\nElisa Azzarà (Flöte) Szilárd Benes (Klarinete) Matej Bunderla (Saxophone) Patrick Skrilecz (Klavier) Maria Flavia Cerrato (Klavier) Lorenzo Derinni (Violine) Myriam García Fidalgo (Cello) Margarethe Maierhofer-Lischka (Kontrabass) Leonhard Garms (Dirigent) \nKONZERT   Mittwoch\, 18. Juni 2014\, 20.00 Uhr  Forum Stadtpark. Stadtpark 1\, 8010\, Graz. \nEintritt € 8.- / € 5.- (für StudentInnen an der Abendkassa)  
URL:https://myriamgarciafidalgo.com/event/konzert-in-forum-stadtpark/
END:VEVENT
BEGIN:VEVENT
DTSTART;VALUE=DATE:20140603
DTEND;VALUE=DATE:20140604
DTSTAMP:20260425T042116
CREATED:20140121T175523Z
LAST-MODIFIED:20140121T175523Z
UID:589-1401753600-1401839999@myriamgarciafidalgo.com
SUMMARY:Konzert in Musiksalon Erfurt
DESCRIPTION:Werke von Maurizio Azzan \, Frederik Neyrinck\, Simone Santi Gubini\, Lorenzo Romano\, Elliott Carter u.a.
URL:https://myriamgarciafidalgo.com/event/konzert-in-musiksalon-erfurt/
END:VEVENT
BEGIN:VEVENT
DTSTART;VALUE=DATE:20140405
DTEND;VALUE=DATE:20140406
DTSTAMP:20260425T042116
CREATED:20140113T154743Z
LAST-MODIFIED:20140113T154743Z
UID:586-1396656000-1396742399@myriamgarciafidalgo.com
SUMMARY:Impuls MinuteConcerts
DESCRIPTION:Bereits zu einer guten alten Tradition (und dies mit aktueller Kunst!) geworden ist das Format der impuls MinutenKonzerte\, die einmal jährlich zu einem samstäglichen akustischen wie visuellen Rundgang durch Grazer Galerien und Kunstinstitutionen einladen. Diesmal ist das Ensemble Schallfeld als Projektpartner mit dabei und wird mit seinen MusikerInnen das Programm bereichern. Von Solostücken über Kammermusik bis hin zu Improvisation und Performance ist für alle Geschmäcker etwas geboten. Ob Passanten oder Neugierige\, Experten oder Quereinsteiger\, Profis oder Amateure\, Kenner oder Entdecker: Bei den rund 30-minütigen impuls Musikprogrammen\, die da in verschiedenen Ausstellungskontexten eine zusätzliche Dimension erhalten\, gibt es für Sie immer etwas zu entdecken. Flanieren Sie also mit uns\, lassen Sie Ohren und Augen streifen\, nutzen Sie die Möglichkeit\, junge Musiker und neue Werke hautnah kennen zu lernen … und erleben Sie Musik und Kunst in einem neuen Zusammenspiel! Weitere Infos und das Programm folgen in Kürze. Nähere Angaben finden Sie auch auf der impuls-website (www.impuls.cc ). Schallfeld – Kulturverein für zeitgenössische Musik und Klangkunst ist Projektpartner von impuls Verein zur Vermittlung zeitgenössischer Musik.Impuls  \nMinuteConcerts is a special event\, which connects contemporary art and music in the city of Graz. It’s a one-day-walk through art galleries\, where short concerts of modern and contemporary music are played. It addresses passerby and curious ones\, experts and newcomer\, professionals and amateurs\, connoisseurs and discoverers and it represents already a good old tradition in Graz (with new art!). Approximately 30-minute long\, diverting impuls music programs and short guided tours through the exhibitions surely hold surprises for everyone. This year we are glad to be project partner of the event and we will enrich it with our musicians and repertoire. So\, stroll with us\, let your ears and eyes wander\, take the opportunity to get to know at first hand young musicians and new works … and experience music and art in a new combination! The program and other information will follow shortly. For further details please check also the impuls-website
URL:https://myriamgarciafidalgo.com/event/impuls-minutenkonzerte/
END:VEVENT
BEGIN:VEVENT
DTSTART;TZID=Europe/Paris:20140312T200000
DTEND;TZID=Europe/Paris:20140312T220000
DTSTAMP:20260425T042116
CREATED:20140112T213846Z
LAST-MODIFIED:20140112T213846Z
UID:581-1394654400-1394661600@myriamgarciafidalgo.com
SUMMARY:„die andere saite“  präsentiert Schallfeld Ensemble
DESCRIPTION:Bereits zum zweiten Mal arbeitet der Verein „die andere saite” mit dem Ensemble Schallfeld zusammen. Diesmal werden Stücke von KomponistInnen der jungen und mittleren Generation in verschiedenen Besetzungen vom Duo bis zum ganzen Ensemble zu hören sein. Auf dem Programm stehen werke von Anahita Abbasi\, Denovaire\, Simone Santi Gubini\, Bruno Maderna\, Frederik Neyrinck\, Gerd Noack\, Zesses Seglias und Andreas Weixler. \n  \n  \nElisa Azzará (Flöten) \nEduardo Muñoz (Fagott) \nDiego Garcia-Pliego (Saxophon) \nLorenzo Derinni (Violine) \nDoris Segula (Violine) \nMyriam García (Violoncello) \nMargarethe Maierhofer-Lischka (Kontrabass) \nDirigent: Edo Micic \nMittwoch\, 12. März 2014\, 20.00 Uhr\, Großer Minoritensaal Kulturzentrum bei den Minoriten\, Mariahilferplatz 3\, A-8020 Graz \nEintritt € 10.- / € 5.-
URL:https://myriamgarciafidalgo.com/event/die-andere-saite/
END:VEVENT
BEGIN:VEVENT
DTSTART;VALUE=DATE:20131212
DTEND;VALUE=DATE:20131216
DTSTAMP:20260425T042116
CREATED:20131208T213456Z
LAST-MODIFIED:20131208T213456Z
UID:480-1386806400-1387151999@myriamgarciafidalgo.com
SUMMARY:beschauung/beschallung
DESCRIPTION:Vom 12. bis 15. Dezember wird in den neuen Räumen des esc medien kunst labor (vormals: esc im labor) ein Fest veranstaltet\, wo das Publikum „mit den Ohren sehen und mit den Augen hören“ soll. Ziel ist es\, ein breites Spektrum aktueller Musik(theater)formen zu zeigen\, die sich alle dem Verhältnis von Klingendem und Sichtbaren zueinander widmen. Neben Musiktheaterwerken gehören eine Ausstellung\, Performances/Improvisationen und Konzerte zum Programm.  Die Opernplattform NOW hat es sich vorgenommen\, jedes Jahr jeweils drei neue Werke entstehen zu lassen\, welche nun vom 12.-15.12. präsentiert werden. Das Werk „Hörschauarena“ für 9 unsichtbare Ausführende\, Metronom und Publikum wurde bereits im Oktober in Graz uraufgeführt. Es realisiert eine offene\, partizipative Vorstellung von Oper. Grundidee ist\, daß das Publikum sich frei im Raum bewegen und am Klangergebnis teilnehmen kann\, während die ausführenden MusikerInnen nicht sichtbar sind. Teil des Festivals ist das Taufkonzert des 2013 von Anna Kropfelder neugegründeten Quki Ensembles (Matej Bunderla\, Ivan Trenev\, Yulan Yu\, Julian Rogge). In ihrem Konzert stehen Uraufführungen von und mit Yulan Yu\, Harald Günther Kainer\, Flora Geißelbrecht\, Christof Ressi/Andrés Gutiérrez\, Hristina Takovska und Adam McCarney auf dem Programm. Das Performance-Projekt „voices of no(i)sense“ (Flora Könemann – Electronics\, Text\, Stimme\, Margarethe Maierhofer-Lischa – Kontrabass\, Electronics\, Objekte \, Yvonne Hofmeister – Stimme) beschäftigt sich auf performativ-improvisierte Weise damit\, wie Instrumente und Klänge unsere Wahrnehmung\, unsere Bewegungen und unsere Körper verändern. Das Fest „beschauung / beschallung“ wird veranstaltet von „NOW! Oper der Gegenwart“ und der „nA yeAh kompAnie“ in Zusammenarbeit mit dem esc medien kunst labor und „Schallfeld – Kulturverein für zeitgenössische Musik und Klangkunst“.
URL:https://myriamgarciafidalgo.com/event/beschauungbeschallung/
END:VEVENT
BEGIN:VEVENT
DTSTART;TZID=UTC:20131106T190000
DTEND;TZID=UTC:20131106T210000
DTSTAMP:20260425T042116
CREATED:20131102T185221Z
LAST-MODIFIED:20131102T185221Z
UID:385-1383764400-1383771600@myriamgarciafidalgo.com
SUMMARY:Schallfeld Ensemble Debüt-Konzert
DESCRIPTION:Programm\nGeorge Crumb:  Eleven echoes of autumn \nFrederick Neyrinck: Landscape construction III \nJavier Quislant: Materia – imagen \nGeorg Friedrich Haas: Ins licht\nCharris Efthimiou: La mer II \nBeat Furrer: Trio \n  \nGefördertes Sonderprojekt der Österreichischen HöchschülerInnenschaft
URL:https://myriamgarciafidalgo.com/event/schallfeld-ensemble-debut-konzert/
LOCATION:blocksy
END:VEVENT
END:VCALENDAR