BEGIN:VCALENDAR
VERSION:2.0
PRODID:-//Myriam García Fidalgo - ECPv6.15.20//NONSGML v1.0//EN
CALSCALE:GREGORIAN
METHOD:PUBLISH
X-ORIGINAL-URL:https://myriamgarciafidalgo.com
X-WR-CALDESC:Events for Myriam García Fidalgo
REFRESH-INTERVAL;VALUE=DURATION:PT1H
X-Robots-Tag:noindex
X-PUBLISHED-TTL:PT1H
BEGIN:VTIMEZONE
TZID:Europe/Vienna
BEGIN:DAYLIGHT
TZOFFSETFROM:+0100
TZOFFSETTO:+0200
TZNAME:CEST
DTSTART:20250330T010000
END:DAYLIGHT
BEGIN:STANDARD
TZOFFSETFROM:+0200
TZOFFSETTO:+0100
TZNAME:CET
DTSTART:20251026T010000
END:STANDARD
BEGIN:DAYLIGHT
TZOFFSETFROM:+0100
TZOFFSETTO:+0200
TZNAME:CEST
DTSTART:20260329T010000
END:DAYLIGHT
BEGIN:STANDARD
TZOFFSETFROM:+0200
TZOFFSETTO:+0100
TZNAME:CET
DTSTART:20261025T010000
END:STANDARD
BEGIN:DAYLIGHT
TZOFFSETFROM:+0100
TZOFFSETTO:+0200
TZNAME:CEST
DTSTART:20270328T010000
END:DAYLIGHT
BEGIN:STANDARD
TZOFFSETFROM:+0200
TZOFFSETTO:+0100
TZNAME:CET
DTSTART:20271031T010000
END:STANDARD
END:VTIMEZONE
BEGIN:VEVENT
DTSTART;TZID=Europe/Vienna:20261003T130000
DTEND;TZID=Europe/Vienna:20261003T130000
DTSTAMP:20260423T214221
CREATED:20260331T163724Z
LAST-MODIFIED:20260331T163819Z
UID:30535-1791032400-1791032400@myriamgarciafidalgo.com
SUMMARY:Schallfeld Ensemble - Voices of Today
DESCRIPTION:Programme\n\n\n\nPATRICIA ALESSANDRINI (b. 1970) A place no one lives for soprano and ensemble (an extended version for live performance) (world première) [1] \n\n\n\nBEAT FURRER (b. 1954) Aria for soprano and six instruments \n\n\n\nEDA ER (b. 1989) Happily Ever After \n\n\n\nPATRICIA ALESSANDRINI New commission (for 2 sopranos and ensemble) (world première) [1] \n\n\n\n[1] Commissioned by Wigmore Hall (with the generous support of the Marchus Trust and the Wigmore Hall Endowment Fund) \n\n\n\n\n\n\n\nOverview\n\n\n\nPatricia Alessandrini’s intricate sound sculptures encompass a seemingly unlimited range of tonal colours and textures\, both acoustic and electronic. The American composer and sound artist\, whose teachers include Tristan Murail and Thea Musgrave\, received praise from Gramophone for ‘her formidably disciplined manipulation of febrile emotions’. Her captivating art\, including a major new composition\, is complemented by the restless energy of Beat Furrer’s Aria from 1998-9.
URL:https://myriamgarciafidalgo.com/event/schallfeld-ensemble-voices-of-today/
LOCATION:Wigmore Hall\, 36 Wigmore Hall\, London\, United Kingdom
CATEGORIES:Schallfeld Ensemble
END:VEVENT
END:VCALENDAR