BEGIN:VCALENDAR
VERSION:2.0
PRODID:-//Myriam García Fidalgo - ECPv6.15.20//NONSGML v1.0//EN
CALSCALE:GREGORIAN
METHOD:PUBLISH
X-WR-CALNAME:Myriam García Fidalgo
X-ORIGINAL-URL:https://myriamgarciafidalgo.com
X-WR-CALDESC:Events for Myriam García Fidalgo
REFRESH-INTERVAL;VALUE=DURATION:PT1H
X-Robots-Tag:noindex
X-PUBLISHED-TTL:PT1H
BEGIN:VTIMEZONE
TZID:UTC
BEGIN:STANDARD
TZOFFSETFROM:+0000
TZOFFSETTO:+0000
TZNAME:UTC
DTSTART:20140101T000000
END:STANDARD
END:VTIMEZONE
BEGIN:VEVENT
DTSTART;TZID=UTC:20160307T200000
DTEND;TZID=UTC:20160307T215900
DTSTAMP:20260424T121217
CREATED:20160103T172809Z
LAST-MODIFIED:20160217T153455Z
UID:1527-1457380800-1457387940@myriamgarciafidalgo.com
SUMMARY:Technics Graz - Nou Ensemble
DESCRIPTION:[:es]Nou Ensemble presenta su programa Technics en Graz. Más información sobre el programa aquí \nPrograma\nSimon Loeffler (1981-) – B (for 3 musicians\, 3 neonlights\, effectpedals and a loose jack cable) \nIñigo Giner (1980-) – een betje licht voor T (violin\, cello\, bass clarinet and LED lights)\nJoan Bagés (1977-) Matar al sol ( violin\, cello\, bass clarinet\, e-guitar and interactive system) \nJose Pablo Polo (1984-) No Tune/No Tempo (metronom and effectpedals)  \nMauricio Kagel (1931-2008) – Prima Vista (for diapositive and sound sources) \n \n\n\n\n\n\n\n\n\n[:en] \nTechnics – Nou Ensemble\nProgram\n  \n \n\nSimon Loeffler (1981-) – B (for 3 musicians\, 3 neonlights\, effectpedals and a loose jack cable) \nIñigo Giner (1980-) – een betje licht voor T (violin\, cello\, bass clarinet and LED lights)\nJoan Bagés (1977-) Matar al sol ( violin\, cello\, bass clarinet\, e-guitar and interactive system) \nJose Pablo Polo (1984-) No Tune/No Tempo (metronom and effectpedals)  \nMauricio Kagel (1931-2008) – Prima Vista (for diapositive and sound sources) \n \n\n\n\n\n\n\n\n\n\n\n\n\n[:de] \nProgram\n  \nSimon Loeffler (1981-) – B (for 3 musicians\, 3 neonlights\, effectpedals and a loose jack cable) \nIñigo Giner (1980-) – een betje licht voor T (violin\, cello\, bass clarinet and LED lights)\nJoan Bagés (1977-) Matar al sol ( violin\, cello\, bass clarinet\, e-guitar and interactive system) \nJose Pablo Polo (1984-) No Tune/No Tempo (metronom and effectpedals)  \nMauricio Kagel (1931-2008) – Prima Vista (for diapositive and sound sources) \n\n[:]
URL:https://myriamgarciafidalgo.com/event/technics-graz-nou-ensemble/
LOCATION:Grazer Kunstverein\, Graz
CATEGORIES:Nou Ensemble
END:VEVENT
BEGIN:VEVENT
DTSTART;TZID=UTC:20151130T193000
DTEND;TZID=UTC:20151130T210000
DTSTAMP:20260424T121217
CREATED:20151102T201434Z
LAST-MODIFIED:20151102T201434Z
UID:1469-1448911800-1448917200@myriamgarciafidalgo.com
SUMMARY:XXVI Premio Jóvenes Compositores Fundación SGAE – CNDM
DESCRIPTION:Concierto final y entrega de premios del XXVI Premio Jóvenes Compositores Fundación SGAE – CNDM. \nDirector: Salvador Sebastiá
URL:https://myriamgarciafidalgo.com/event/xxvi-premio-jovenes-compositores-fundacion-sgae-cndm/
LOCATION:CENTRO DE ARTE REINA SOFÍA (MNCARS) | Auditorio 400\, Madrid
CATEGORIES:Nou Ensemble
END:VEVENT
BEGIN:VEVENT
DTSTART;VALUE=DATE:20151117
DTEND;VALUE=DATE:20151118
DTSTAMP:20260424T121217
CREATED:20151102T200007Z
LAST-MODIFIED:20151102T200007Z
UID:1465-1447718400-1447804799@myriamgarciafidalgo.com
SUMMARY:Technics Vigo
DESCRIPTION:
URL:https://myriamgarciafidalgo.com/event/technics-vigo/
CATEGORIES:Nou Ensemble
END:VEVENT
BEGIN:VEVENT
DTSTART;TZID=UTC:20151024T193000
DTEND;TZID=UTC:20151024T193000
DTSTAMP:20260424T121217
CREATED:20151102T202746Z
LAST-MODIFIED:20151102T202746Z
UID:1478-1445715000-1445715000@myriamgarciafidalgo.com
SUMMARY:[:es]Festival Internacional 3Cantos[:en]Festival Internacional 3Cantos[:]
DESCRIPTION:[:es] \nNou Ensemble\nObras de J. Cage\, T. Takemitsu\, Alberto Bernal\, Iñigo Giner\, Jose Pablo Polo y Alberto Trabajos (estreno)[:]
URL:https://myriamgarciafidalgo.com/event/festival-internacional-3cantos/
CATEGORIES:Nou Ensemble
END:VEVENT
END:VCALENDAR